BEGIN:VCALENDAR
VERSION:2.0
METHOD:PUBLISH
X-WR-CALNAME:mountmorgan.org.au |  February 01 2019- March 01 2019
PRODID:-//strange bird labs//Drupal iCal API//EN
BEGIN:VEVENT
DTSTAMP;VALUE=DATE-TIME:20190227T062850Z
DTSTART;VALUE=DATE-TIME:20190203T230000Z
DTEND;VALUE=DATE-TIME:20190203T230000Z
UID:http://mountmorgan.org.au/node/413
URL;VALUE=URI:http://mountmorgan.org.au/node/413
SUMMARY:Major upgrade for Mount Morgan Railway Museum and Accredited Visitor Information Centre
DESCRIPTION:<p>Mount Morgan's Railway Museum and Accredited Visitor Information Centre will be open for business as usual during the major upgrade works commencing on the 4 February and expected to be completed end of April\, weather permitting. </p>
 <p>The building will receive $500\,000 worth of works thanks to Rockhampton Regional Council.</p>
 <p>Certain areas of the building may be unaccessable at times during the works.<br />
 We thank all visitors and volunteers for their patience during this time.</p>
 <p>The MMPAD office will operate as usual Monday to Friday from 9am to 4pm daily.</p>
 
END:VEVENT
BEGIN:VEVENT
DTSTAMP;VALUE=DATE-TIME:20190227T062850Z
DTSTART;VALUE=DATE-TIME:20190212T140000Z
DTEND;VALUE=DATE-TIME:20190212T140000Z
UID:http://mountmorgan.org.au/node/408
URL;VALUE=URI:http://mountmorgan.org.au/node/408
SUMMARY:Mount Morgan Argus Volume 14\, Issue 2
END:VEVENT
BEGIN:VEVENT
DTSTAMP;VALUE=DATE-TIME:20190227T062850Z
DTSTART;VALUE=DATE-TIME:20190226T140000Z
DTEND;VALUE=DATE-TIME:20190226T140000Z
UID:http://mountmorgan.org.au/node/410
URL;VALUE=URI:http://mountmorgan.org.au/node/410
SUMMARY:The Mount Morgan Argus Volume 14\, Issue 3
END:VEVENT
END:VCALENDAR
